BEGIN:VCALENDAR
VERSION:2.0
PRODID:-//Daniel Island Property Owners&#039; Association - ECPv6.15.19//NONSGML v1.0//EN
CALSCALE:GREGORIAN
METHOD:PUBLISH
X-WR-CALNAME:Daniel Island Property Owners&#039; Association
X-ORIGINAL-URL:https://dicommunity.org
X-WR-CALDESC:Events for Daniel Island Property Owners&#039; Association
REFRESH-INTERVAL;VALUE=DURATION:PT1H
X-Robots-Tag:noindex
X-PUBLISHED-TTL:PT1H
BEGIN:VTIMEZONE
TZID:America/New_York
BEGIN:DAYLIGHT
TZOFFSETFROM:-0500
TZOFFSETTO:-0400
TZNAME:EDT
DTSTART:20230312T070000
END:DAYLIGHT
BEGIN:STANDARD
TZOFFSETFROM:-0400
TZOFFSETTO:-0500
TZNAME:EST
DTSTART:20231105T060000
END:STANDARD
BEGIN:DAYLIGHT
TZOFFSETFROM:-0500
TZOFFSETTO:-0400
TZNAME:EDT
DTSTART:20240310T070000
END:DAYLIGHT
BEGIN:STANDARD
TZOFFSETFROM:-0400
TZOFFSETTO:-0500
TZNAME:EST
DTSTART:20241103T060000
END:STANDARD
BEGIN:DAYLIGHT
TZOFFSETFROM:-0500
TZOFFSETTO:-0400
TZNAME:EDT
DTSTART:20250309T070000
END:DAYLIGHT
BEGIN:STANDARD
TZOFFSETFROM:-0400
TZOFFSETTO:-0500
TZNAME:EST
DTSTART:20251102T060000
END:STANDARD
END:VTIMEZONE
BEGIN:VEVENT
DTSTART;TZID=America/New_York:20240516T170000
DTEND;TZID=America/New_York:20240516T190000
DTSTAMP:20260420T062931
CREATED:20240226T171819Z
LAST-MODIFIED:20240501T152731Z
UID:10097735-1715878800-1715886000@dicommunity.org
SUMMARY:Spring Acoustic Guitar Series
DESCRIPTION:You are invited to enjoy live music each Thursday afternoon at Waterfront Park on Daniel Island at the end of River Landing Drive with a spectacular view of the Wando River. Feel free to bring a chair or blanket and your picnic. Also\, for another dinner option\, The Dime will be staying open until 7 pm through May to offer options to Waterfront Park concert series attendees! \nWe encourage our attendees to use #DIguitarseries and tag @danielislandpoa to share their event experience. \nThe Daniel Island Community Fund sponsors this event. Please check the Daniel Island Property Association Facebook page to see each week’s artist. https://www.facebook.com/DanielIslandPOA \nThis series of live acoustic performances and musicians are subject to change. \nWeather reminder: Should weather conditions at the time of the event create an environment that is not conducive to a safe and enjoyable event\, we may need to delay the start time until weather conditions improve\, end early\, or cancel the event for that Thursday.
URL:https://dicommunity.org/event/spring-acoustic-guitar-series/2024-05-16/
LOCATION:Daniel Island Waterfront Park\, 1 River Landing Drive\, Daniel Island\, SC\, 29492
CATEGORIES:POA Event
ATTACH;FMTTYPE=image/jpeg:https://dicommunity.org/wp-content/uploads/2023/03/Waterfront-Park-Pic-2021-1.jpg
ORGANIZER;CN="Jessamine + Wren%2C Charleston Events LLC":MAILTO:JessamineWren@gmail.com
END:VEVENT
BEGIN:VEVENT
DTSTART;TZID=America/New_York:20240502T170000
DTEND;TZID=America/New_York:20240502T190000
DTSTAMP:20260420T062931
CREATED:20240226T171819Z
LAST-MODIFIED:20240501T152731Z
UID:10097733-1714669200-1714676400@dicommunity.org
SUMMARY:Spring Acoustic Guitar Series
DESCRIPTION:You are invited to enjoy live music each Thursday afternoon at Waterfront Park on Daniel Island at the end of River Landing Drive with a spectacular view of the Wando River. Feel free to bring a chair or blanket and your picnic. Also\, for another dinner option\, The Dime will be staying open until 7 pm through May to offer options to Waterfront Park concert series attendees! \nWe encourage our attendees to use #DIguitarseries and tag @danielislandpoa to share their event experience. \nThe Daniel Island Community Fund sponsors this event. Please check the Daniel Island Property Association Facebook page to see each week’s artist. https://www.facebook.com/DanielIslandPOA \nThis series of live acoustic performances and musicians are subject to change. \nWeather reminder: Should weather conditions at the time of the event create an environment that is not conducive to a safe and enjoyable event\, we may need to delay the start time until weather conditions improve\, end early\, or cancel the event for that Thursday.
URL:https://dicommunity.org/event/spring-acoustic-guitar-series/2024-05-02/
LOCATION:Daniel Island Waterfront Park\, 1 River Landing Drive\, Daniel Island\, SC\, 29492
CATEGORIES:POA Event
ATTACH;FMTTYPE=image/jpeg:https://dicommunity.org/wp-content/uploads/2023/03/Waterfront-Park-Pic-2021-1.jpg
ORGANIZER;CN="Jessamine + Wren%2C Charleston Events LLC":MAILTO:JessamineWren@gmail.com
END:VEVENT
BEGIN:VEVENT
DTSTART;TZID=America/New_York:20240427T120000
DTEND;TZID=America/New_York:20240427T150000
DTSTAMP:20260420T062931
CREATED:20240326T165603Z
LAST-MODIFIED:20240424T190419Z
UID:10097907-1714219200-1714230000@dicommunity.org
SUMMARY:Spring Artisan Market
DESCRIPTION:The Waterfront is pleased to bring back their 3rd annual Spring Artisan Market on April 27th when they will bring together local artisans and vendors at Waterfront Park for an afternoon of community\, food\, music\, and fun. \nEvent Highlights: \n\nMusic from Daniel Island Music Academy\nFood from The DIME\, Mabel Mae’s Bakery & Aroi Thai Charleston\nKid’s activities include face painting\, an art station with Wee Little Arts\, and fairy hair\nAttendees can stop by The Waterfront tent to learn about the third collection of homes!\n\nVendor List: \n\nArt by Julie Wheeler\nRyan Beck\nDaniel Island Music Academy\nBloomTown Flower Market\nPax Supply Co.\nMichael’s Barkery\nUrban Renewal Design\nDarlington Isle\nThe Restored Board Design Co.\nKendall’s Kandles\nSobremesa Mole & Salsas\nMabel maes bakery\nSUN VOW JEWELRY\nHOLST + LEE\nAroithai Charleston by Mamapear’s Kitchen\nWalsh Woods\nRiverlight Art Studio\nMomma Maddie’s Sweetgrass Basket Jewelry & Collectibles\nSouthern Tails for Precious Paws\nSparkle Charleston\nWee Little Arts\nPeachy Palette\nThe Waterfront\nCharleston Waterkeeper\nThe DIME\nAnne Abueva Studio\nLa Casa Love\nScore and Burn\nDear Georgie\nAnn Parker\nHey Sugar\n\nA portion of proceeds from the event will benefit Charleston Waterkeeper\, a local nonprofit dedicated to protecting and restoring Charleston’s waterways for the community and future generations. \n*Please note that the list of vendors is subject to change at any time.
URL:https://dicommunity.org/event/the-waterfronts-spring-artisan-market/
LOCATION:Daniel Island Waterfront Park\, 1 River Landing Drive\, Daniel Island\, SC\, 29492
ATTACH;FMTTYPE=image/jpeg:https://dicommunity.org/wp-content/uploads/2024/03/DSC_1684-scaled.jpg
ORGANIZER;CN="The Waterfront":MAILTO:INFO@THEWATERFRONTDI.COM
END:VEVENT
BEGIN:VEVENT
DTSTART;TZID=America/New_York:20240425T170000
DTEND;TZID=America/New_York:20240425T190000
DTSTAMP:20260420T062931
CREATED:20240306T181517Z
LAST-MODIFIED:20240501T150017Z
UID:10097732-1714064400-1714071600@dicommunity.org
SUMMARY:Spring Acoustic Guitar Series
DESCRIPTION:You are invited to enjoy live music each Thursday afternoon at Waterfront Park on Daniel Island at the end of River Landing Drive with a spectacular view of the Wando River. Feel free to bring a chair or blanket and your picnic. For another dinner option\, The Dime is planning to stay open until 7 pm each Thursday through May to help make picking up something right next door super easy! \nWe encourage our attendees to use #DIguitarseries and tag @danielislandpoa to share their event experience. \nThe Daniel Island Community Fund sponsors this event. Please check the Daniel Island Property Association Facebook page to see each week’s artist. This series of live acoustic performances and musicians are subject to change. \nWeather reminder: Should weather conditions at the time of the event create an environment that is not conducive to a safe and enjoyable event\, we may need to delay the start time until weather conditions improve\, end early\, or cancel the event for that Thursday.
URL:https://dicommunity.org/event/spring-acoustic-guitar-series-2/
LOCATION:Daniel Island Waterfront Park\, 1 River Landing Drive\, Daniel Island\, SC\, 29492
CATEGORIES:POA Event
ATTACH;FMTTYPE=image/jpeg:https://dicommunity.org/wp-content/uploads/2023/03/Waterfront-Park-Pic-2021-1.jpg
ORGANIZER;CN="Jessamine + Wren%2C Charleston Events LLC":MAILTO:JessamineWren@gmail.com
END:VEVENT
END:VCALENDAR