BEGIN:VCALENDAR
VERSION:2.0
PRODID:-//Daniel Island Property Owners&#039; Association - ECPv6.15.19//NONSGML v1.0//EN
CALSCALE:GREGORIAN
METHOD:PUBLISH
X-ORIGINAL-URL:https://dicommunity.org
X-WR-CALDESC:Events for Daniel Island Property Owners&#039; Association
REFRESH-INTERVAL;VALUE=DURATION:PT1H
X-Robots-Tag:noindex
X-PUBLISHED-TTL:PT1H
BEGIN:VTIMEZONE
TZID:America/New_York
BEGIN:DAYLIGHT
TZOFFSETFROM:-0500
TZOFFSETTO:-0400
TZNAME:EDT
DTSTART:20230312T070000
END:DAYLIGHT
BEGIN:STANDARD
TZOFFSETFROM:-0400
TZOFFSETTO:-0500
TZNAME:EST
DTSTART:20231105T060000
END:STANDARD
BEGIN:DAYLIGHT
TZOFFSETFROM:-0500
TZOFFSETTO:-0400
TZNAME:EDT
DTSTART:20240310T070000
END:DAYLIGHT
BEGIN:STANDARD
TZOFFSETFROM:-0400
TZOFFSETTO:-0500
TZNAME:EST
DTSTART:20241103T060000
END:STANDARD
BEGIN:DAYLIGHT
TZOFFSETFROM:-0500
TZOFFSETTO:-0400
TZNAME:EDT
DTSTART:20250309T070000
END:DAYLIGHT
BEGIN:STANDARD
TZOFFSETFROM:-0400
TZOFFSETTO:-0500
TZNAME:EST
DTSTART:20251102T060000
END:STANDARD
END:VTIMEZONE
BEGIN:VEVENT
DTSTART;TZID=America/New_York:20241203T073000
DTEND;TZID=America/New_York:20241203T090000
DTSTAMP:20260421T072430
CREATED:20241009T164049Z
LAST-MODIFIED:20241022T142205Z
UID:10098627-1733211000-1733216400@dicommunity.org
SUMMARY:2025 Economic Outlook Conference
DESCRIPTION:In times of uncertainty\, whether you are running a business or planning your investments\, knowledge can be your most valuable asset. \nStephen Slifer\, Owner and Chief Economist at NumberNomics will provide insight regarding what to expect in 2025 and 2026. \n  \nThe economy has changed dramatically. \nConsumers are scared but keep spending. Can it continue? \nHomeowners won’t put their houses on the market. When will that change? \nHow does AI change the outlook? \nWhat is the economy’s speed limit? Are you sure? \nWill inflation continue to slow? How quickly? \nInterest rates have begun to fall. How far? How fast? \n  \nDATE: Tuesday\, December 3\, 2024 \nTIME: 7:30 to 9:00 A.M. EST \nWHERE: Daniel Island Club\, 600 Island Park Drive\, Charleston\, S.C. \nCOST: $60.00 includes breakfast \nStephen Slifer: From 1980 until his retirement in 2003\, Mr. Slifer was the Chief U.S. Economist for Lehman Brothers in New York City. In that role he directed the firm’s U.S. economics group and was responsible for the firm’s forecasts and analysis of the U.S. economy. \nPrior to that\, he spent a decade as a senior economist at the Board of Governors of the Federal Reserve in Washington\, D.C. He has written two books about the various economic indicators and how they can be used to forecast economic activity. He writes a regular bi-weekly economics column for the Charleston Regional Business Journal. \nProudly sponsored by: \nBaird – Gray Coulton                                      Charleston Digital Corridor \nDaniel Island Business Association                Daniel Island Community Association \nNumberNomics                                                Trident Technical College \nTransitions Wealth Mgmt. – Mary White       Dunhill Staff  — Katie Henderson \nCharleston Regional Business Journal            Charleston Southern University \nTo register click HERE.
URL:https://dicommunity.org/event/2025-economic-outlook-conference/
LOCATION:Daniel Island Club\, 600 Island Park Drive\, Charleston\, SC\, 29492\, United States
CATEGORIES:Clubs + Groups
ATTACH;FMTTYPE=image/jpeg:https://dicommunity.org/wp-content/uploads/2024/10/DSC4708-Edit.jpg
ORGANIZER;CN="Stephen Slifer":MAILTO:sslifer@homesc.com
GEO:32.926649;-79.8856824
X-APPLE-STRUCTURED-LOCATION;VALUE=URI;X-ADDRESS=Daniel Island Club 600 Island Park Drive Charleston SC 29492 United States;X-APPLE-RADIUS=500;X-TITLE=600 Island Park Drive:geo:-79.8856824,32.926649
END:VEVENT
END:VCALENDAR