BEGIN:VCALENDAR
VERSION:2.0
PRODID:-//Daniel Island Property Owners&#039; Association - ECPv6.15.19//NONSGML v1.0//EN
CALSCALE:GREGORIAN
METHOD:PUBLISH
X-WR-CALNAME:Daniel Island Property Owners&#039; Association
X-ORIGINAL-URL:https://dicommunity.org
X-WR-CALDESC:Events for Daniel Island Property Owners&#039; Association
REFRESH-INTERVAL;VALUE=DURATION:PT1H
X-Robots-Tag:noindex
X-PUBLISHED-TTL:PT1H
BEGIN:VTIMEZONE
TZID:UTC
BEGIN:STANDARD
TZOFFSETFROM:+0000
TZOFFSETTO:+0000
TZNAME:UTC
DTSTART:20240101T000000
END:STANDARD
END:VTIMEZONE
BEGIN:VEVENT
DTSTART;TZID=UTC:20260316T140000
DTEND;TZID=UTC:20260316T150000
DTSTAMP:20260423T051803
CREATED:20260303T203330Z
LAST-MODIFIED:20260303T203542Z
UID:10103534-1773669600-1773673200@dicommunity.org
SUMMARY:Q1 DITA Board Meeting
DESCRIPTION:The Daniel Island Town Association (DITA) Board will hold its first quarter meeting on Monday\, March 16th at 2:00 PM. The meeting will be held via a Zoom Webinar. All attendees must register HERE to be able to attend this meeting. Registration for the meeting will end 1 hour before the meeting begins. \nPlease note that this meeting is only available for those members of the Daniel Island Town Association. \nThe Daniel Island Town Association (DITA) is comprised of commercial properties\, condominiums\, and apartments on the island.
URL:https://dicommunity.org/event/q1-dita-board-meeting/
LOCATION:VIRTUAL VIA ZOOM
CATEGORIES:POA Event
ATTACH;FMTTYPE=image/jpeg:https://dicommunity.org/wp-content/uploads/2019/09/The-Waterfront-DI-.jpg
END:VEVENT
BEGIN:VEVENT
DTSTART;TZID=UTC:20260122T130000
DTEND;TZID=UTC:20260122T140000
DTSTAMP:20260423T051803
CREATED:20260113T163720Z
LAST-MODIFIED:20260113T163720Z
UID:10103394-1769086800-1769090400@dicommunity.org
SUMMARY:DITA Organizational Meeting
DESCRIPTION:The Daniel Island Town Association (DITA) Board will hold an organizational meeting on Thursday\, January 22nd at 1 PM. The meeting will be held via a Zoom Webinar. All attendees must register HERE to be able to attend this meeting. Registration for the meeting will end 1 hour before the meeting begins. \nPlease note that this meeting is only available to current members of the Daniel Island Town Association. \nThe Daniel Island Town Association (DITA) is comprised of commercial properties\, condominiums\, and apartments on the island.
URL:https://dicommunity.org/event/dita-organizational-meeting/
LOCATION:VIRTUAL VIA ZOOM
CATEGORIES:POA Event
ATTACH;FMTTYPE=image/jpeg:https://dicommunity.org/wp-content/uploads/2022/07/DI_POA_header_7-mobile.jpg
END:VEVENT
BEGIN:VEVENT
DTSTART;TZID=UTC:20250129T113000
DTEND;TZID=UTC:20250129T123000
DTSTAMP:20260423T051803
CREATED:20250114T172413Z
LAST-MODIFIED:20250114T172413Z
UID:10099917-1738150200-1738153800@dicommunity.org
SUMMARY:January 2025 DITA Board Meeting
DESCRIPTION:The Daniel Island Town Association (DITA) Board will hold a meeting on Wednesday\, January 29th at 11:30 AM. The meeting will be held via a Zoom Webinar. All attendees must register HERE to be able to attend this meeting. Registration for the meeting will end 1 hour before the meeting begins. \nPlease note that this meeting is only available for those residents who are current members of the Daniel Island Town Association. \nThe Daniel Island Town Association (DITA) is comprised of commercial properties\, condominiums\, and apartments on the island. \nMeeting Agenda coming soon.
URL:https://dicommunity.org/event/january-2025-dita-board-meeting/
LOCATION:VIRTUAL VIA ZOOM
CATEGORIES:POA Event
ATTACH;FMTTYPE=image/jpeg:https://dicommunity.org/wp-content/uploads/2022/07/DI_POA_header_7-mobile.jpg
END:VEVENT
END:VCALENDAR