BEGIN:VCALENDAR
VERSION:2.0
PRODID:-//Daniel Island Property Owners&#039; Association - ECPv6.15.19//NONSGML v1.0//EN
CALSCALE:GREGORIAN
METHOD:PUBLISH
X-ORIGINAL-URL:https://dicommunity.org
X-WR-CALDESC:Events for Daniel Island Property Owners&#039; Association
REFRESH-INTERVAL;VALUE=DURATION:PT1H
X-Robots-Tag:noindex
X-PUBLISHED-TTL:PT1H
BEGIN:VTIMEZONE
TZID:America/New_York
BEGIN:DAYLIGHT
TZOFFSETFROM:-0500
TZOFFSETTO:-0400
TZNAME:EDT
DTSTART:20230312T070000
END:DAYLIGHT
BEGIN:STANDARD
TZOFFSETFROM:-0400
TZOFFSETTO:-0500
TZNAME:EST
DTSTART:20231105T060000
END:STANDARD
BEGIN:DAYLIGHT
TZOFFSETFROM:-0500
TZOFFSETTO:-0400
TZNAME:EDT
DTSTART:20240310T070000
END:DAYLIGHT
BEGIN:STANDARD
TZOFFSETFROM:-0400
TZOFFSETTO:-0500
TZNAME:EST
DTSTART:20241103T060000
END:STANDARD
BEGIN:DAYLIGHT
TZOFFSETFROM:-0500
TZOFFSETTO:-0400
TZNAME:EDT
DTSTART:20250309T070000
END:DAYLIGHT
BEGIN:STANDARD
TZOFFSETFROM:-0400
TZOFFSETTO:-0500
TZNAME:EST
DTSTART:20251102T060000
END:STANDARD
BEGIN:DAYLIGHT
TZOFFSETFROM:-0500
TZOFFSETTO:-0400
TZNAME:EDT
DTSTART:20260308T070000
END:DAYLIGHT
BEGIN:STANDARD
TZOFFSETFROM:-0400
TZOFFSETTO:-0500
TZNAME:EST
DTSTART:20261101T060000
END:STANDARD
END:VTIMEZONE
BEGIN:VEVENT
DTSTART;TZID=America/New_York:20250426T110000
DTEND;TZID=America/New_York:20250426T140000
DTSTAMP:20260424T164137
CREATED:20250224T140602Z
LAST-MODIFIED:20250310T153045Z
UID:10099963-1745665200-1745676000@dicommunity.org
SUMMARY:Pinwheels In The Park
DESCRIPTION:Now in its second year\, The Pinwheels in the Park Children’s Fair will be held Saturday\, April 26\, 2025\, 11 AM – 2 PM in its new location at the Daniel Island Waterfront Park. April is National Prevention of Child Abuse Month and this event honors the safety of children everywhere. This free and fun event is sponsored by the Daniel Island Exchange Club and The Daniel Island Community Fund. This event will be held rain or shine. \nAlready a family destination with a playground\, picnic tables\, and an engaging fountain\, the Daniel Island Waterfront Park will be transformed into a fair like atmosphere with jugglers\, stilt-walkers\, a balloon art tent\, a tattoo station\, stilt walkers\, a magician\, a musician with a guitar to play children’s songs and more. There will be free popcorn\, and they will also host a variety of family-friendly games such as corn hole\, a fishing pond\, bowling\, Tug of War\, a 3-legged race\, and of course\, a multitude of prizes to be had! \nThere will also be an information Tent with information on some of the local Children’s Charities advocating for children’s safety and a world where all children grow up safe\, nurtured\, and free from abuse. \nDon’t miss this fun and free event for the whole family. You may visit their website to obtain further information https://dixchangeclub.org.
URL:https://dicommunity.org/event/pinwheels-in-the-park-childrens-fair/
LOCATION:Daniel Island Waterfront Park\, 1 River Landing Drive\, Daniel Island\, SC\, 29492
CATEGORIES:Clubs + Groups
ATTACH;FMTTYPE=image/jpeg:https://dicommunity.org/wp-content/uploads/2025/02/PinwheelsLogo.jpg
ORGANIZER;CN="Daniel Island Exchange Club":MAILTO:info@DIExchangeclub.org
END:VEVENT
BEGIN:VEVENT
DTSTART;VALUE=DATE:20240622
DTEND;VALUE=DATE:20240708
DTSTAMP:20260424T164137
CREATED:20240326T132919Z
LAST-MODIFIED:20240514T183427Z
UID:10097906-1719014400-1720396799@dicommunity.org
SUMMARY:2024 Field of Honor
DESCRIPTION:Come visit Daniel Island’s amazing Field of Honor with 1000 US Flags honoring our heroes hosted by the Daniel Island Exchange Club. \nEach flag will have a banner in dedication to our local heroes – veterans\, first responders\, and teachers as well as the personal heroes of our island residents. You can purchase a flag and dedicate it to your hero through the Exchange Club of Daniel Island website HERE. \nYou can walk through the field and take pictures. It is a great place to get that patriotic picture of your children and their heroes’ flag for the 4th of July.
URL:https://dicommunity.org/event/2024-field-of-honor/
LOCATION:130 River Landing Drive\, 130 River Landing Drive\, Charleston\, SC\, 29492\, United States
CATEGORIES:Clubs + Groups
ATTACH;FMTTYPE=image/jpeg:https://dicommunity.org/wp-content/uploads/2024/03/20230717_160525-scaled.jpg
ORGANIZER;CN="Daniel Island Exchange Club":MAILTO:info@DIExchangeclub.org
GEO:32.858295;-79.903952
X-APPLE-STRUCTURED-LOCATION;VALUE=URI;X-ADDRESS=130 River Landing Drive 130 River Landing Drive Charleston SC 29492 United States;X-APPLE-RADIUS=500;X-TITLE=130 River Landing Drive:geo:-79.903952,32.858295
END:VEVENT
END:VCALENDAR