BEGIN:VCALENDAR
VERSION:2.0
PRODID:-//Daniel Island Property Owners&#039; Association - ECPv6.15.19//NONSGML v1.0//EN
CALSCALE:GREGORIAN
METHOD:PUBLISH
X-WR-CALNAME:Daniel Island Property Owners&#039; Association
X-ORIGINAL-URL:https://dicommunity.org
X-WR-CALDESC:Events for Daniel Island Property Owners&#039; Association
REFRESH-INTERVAL;VALUE=DURATION:PT1H
X-Robots-Tag:noindex
X-PUBLISHED-TTL:PT1H
BEGIN:VTIMEZONE
TZID:America/New_York
BEGIN:DAYLIGHT
TZOFFSETFROM:-0500
TZOFFSETTO:-0400
TZNAME:EDT
DTSTART:20230312T070000
END:DAYLIGHT
BEGIN:STANDARD
TZOFFSETFROM:-0400
TZOFFSETTO:-0500
TZNAME:EST
DTSTART:20231105T060000
END:STANDARD
BEGIN:DAYLIGHT
TZOFFSETFROM:-0500
TZOFFSETTO:-0400
TZNAME:EDT
DTSTART:20240310T070000
END:DAYLIGHT
BEGIN:STANDARD
TZOFFSETFROM:-0400
TZOFFSETTO:-0500
TZNAME:EST
DTSTART:20241103T060000
END:STANDARD
BEGIN:DAYLIGHT
TZOFFSETFROM:-0500
TZOFFSETTO:-0400
TZNAME:EDT
DTSTART:20250309T070000
END:DAYLIGHT
BEGIN:STANDARD
TZOFFSETFROM:-0400
TZOFFSETTO:-0500
TZNAME:EST
DTSTART:20251102T060000
END:STANDARD
END:VTIMEZONE
BEGIN:VEVENT
DTSTART;TZID=America/New_York:20241110T130000
DTEND;TZID=America/New_York:20241110T160000
DTSTAMP:20260424T062436
CREATED:20241007T151421Z
LAST-MODIFIED:20241007T162001Z
UID:150616-1731243600-1731254400@dicommunity.org
SUMMARY:WaterFest
DESCRIPTION:WaterFest returns to The Waterfront for the 5th year in a row\, and you’re invited! \nThis annual community event offers fun for the whole family with an afternoon beside the Wando River! Listen to live music while enjoying oysters and chili. Little ones can take part in activities like face painting\, live demos by the South Carolina Aquarium\, and an art station. \nA portion of proceeds from the entry fee will be donated back to Charleston Waterkeeper\, a Charleston-based non-profit that works to protect and restore the waterways for you and future generations. \nThe Waterfront will also have a raffle table open with prizes from local vendors. Raffle ticket sales will also benefit Charleston Waterkeeper. \nPlease be sure to reserve tickets in advance as this event has sold out for the last 4 years! \nAdults: $25 \nKids (ages 3-12): $10 \n*Children 2 years of age and younger do not require a ticket for entry
URL:https://dicommunity.org/event/waterfest/
LOCATION:Daniel Island Waterfront Park\, 1 River Landing Drive\, Daniel Island\, SC\, 29492
ATTACH;FMTTYPE=image/jpeg:https://dicommunity.org/wp-content/uploads/2024/10/DSC_8965-scaled.jpg
ORGANIZER;CN="The Waterfront":MAILTO:INFO@THEWATERFRONTDI.COM
END:VEVENT
END:VCALENDAR