BEGIN:VCALENDAR
VERSION:2.0
PRODID:-//Daniel Island Property Owners&#039; Association - ECPv6.15.19//NONSGML v1.0//EN
CALSCALE:GREGORIAN
METHOD:PUBLISH
X-WR-CALNAME:Daniel Island Property Owners&#039; Association
X-ORIGINAL-URL:https://dicommunity.org
X-WR-CALDESC:Events for Daniel Island Property Owners&#039; Association
REFRESH-INTERVAL;VALUE=DURATION:PT1H
X-Robots-Tag:noindex
X-PUBLISHED-TTL:PT1H
BEGIN:VTIMEZONE
TZID:America/New_York
BEGIN:DAYLIGHT
TZOFFSETFROM:-0500
TZOFFSETTO:-0400
TZNAME:EDT
DTSTART:20230312T070000
END:DAYLIGHT
BEGIN:STANDARD
TZOFFSETFROM:-0400
TZOFFSETTO:-0500
TZNAME:EST
DTSTART:20231105T060000
END:STANDARD
BEGIN:DAYLIGHT
TZOFFSETFROM:-0500
TZOFFSETTO:-0400
TZNAME:EDT
DTSTART:20240310T070000
END:DAYLIGHT
BEGIN:STANDARD
TZOFFSETFROM:-0400
TZOFFSETTO:-0500
TZNAME:EST
DTSTART:20241103T060000
END:STANDARD
BEGIN:DAYLIGHT
TZOFFSETFROM:-0500
TZOFFSETTO:-0400
TZNAME:EDT
DTSTART:20250309T070000
END:DAYLIGHT
BEGIN:STANDARD
TZOFFSETFROM:-0400
TZOFFSETTO:-0500
TZNAME:EST
DTSTART:20251102T060000
END:STANDARD
END:VTIMEZONE
BEGIN:VEVENT
DTSTART;TZID=America/New_York:20240530T170000
DTEND;TZID=America/New_York:20240530T190000
DTSTAMP:20260421T061117
CREATED:20240226T171819Z
LAST-MODIFIED:20240501T152731Z
UID:10097737-1717088400-1717095600@dicommunity.org
SUMMARY:Spring Acoustic Guitar Series
DESCRIPTION:You are invited to enjoy live music each Thursday afternoon at Waterfront Park on Daniel Island at the end of River Landing Drive with a spectacular view of the Wando River. Feel free to bring a chair or blanket and your picnic. Also\, for another dinner option\, The Dime will be staying open until 7 pm through May to offer options to Waterfront Park concert series attendees! \nWe encourage our attendees to use #DIguitarseries and tag @danielislandpoa to share their event experience. \nThe Daniel Island Community Fund sponsors this event. Please check the Daniel Island Property Association Facebook page to see each week’s artist. https://www.facebook.com/DanielIslandPOA \nThis series of live acoustic performances and musicians are subject to change. \nWeather reminder: Should weather conditions at the time of the event create an environment that is not conducive to a safe and enjoyable event\, we may need to delay the start time until weather conditions improve\, end early\, or cancel the event for that Thursday.
URL:https://dicommunity.org/event/spring-acoustic-guitar-series/2024-05-30/
LOCATION:Daniel Island Waterfront Park\, 1 River Landing Drive\, Daniel Island\, SC\, 29492
CATEGORIES:POA Event
ATTACH;FMTTYPE=image/jpeg:https://dicommunity.org/wp-content/uploads/2023/03/Waterfront-Park-Pic-2021-1.jpg
ORGANIZER;CN="Jessamine + Wren%2C Charleston Events LLC":MAILTO:JessamineWren@gmail.com
END:VEVENT
END:VCALENDAR