BEGIN:VCALENDAR
VERSION:2.0
PRODID:-//Daniel Island Property Owners&#039; Association - ECPv6.15.19//NONSGML v1.0//EN
CALSCALE:GREGORIAN
METHOD:PUBLISH
X-WR-CALNAME:Daniel Island Property Owners&#039; Association
X-ORIGINAL-URL:https://dicommunity.org
X-WR-CALDESC:Events for Daniel Island Property Owners&#039; Association
REFRESH-INTERVAL;VALUE=DURATION:PT1H
X-Robots-Tag:noindex
X-PUBLISHED-TTL:PT1H
BEGIN:VTIMEZONE
TZID:America/New_York
BEGIN:DAYLIGHT
TZOFFSETFROM:-0500
TZOFFSETTO:-0400
TZNAME:EDT
DTSTART:20230312T070000
END:DAYLIGHT
BEGIN:STANDARD
TZOFFSETFROM:-0400
TZOFFSETTO:-0500
TZNAME:EST
DTSTART:20231105T060000
END:STANDARD
BEGIN:DAYLIGHT
TZOFFSETFROM:-0500
TZOFFSETTO:-0400
TZNAME:EDT
DTSTART:20240310T070000
END:DAYLIGHT
BEGIN:STANDARD
TZOFFSETFROM:-0400
TZOFFSETTO:-0500
TZNAME:EST
DTSTART:20241103T060000
END:STANDARD
BEGIN:DAYLIGHT
TZOFFSETFROM:-0500
TZOFFSETTO:-0400
TZNAME:EDT
DTSTART:20250309T070000
END:DAYLIGHT
BEGIN:STANDARD
TZOFFSETFROM:-0400
TZOFFSETTO:-0500
TZNAME:EST
DTSTART:20251102T060000
END:STANDARD
END:VTIMEZONE
BEGIN:VEVENT
DTSTART;TZID=America/New_York:20240518T090000
DTEND;TZID=America/New_York:20240518T120000
DTSTAMP:20260421T134422
CREATED:20240129T200816Z
LAST-MODIFIED:20240205T163918Z
UID:146491-1716022800-1716033600@dicommunity.org
SUMMARY:Shred360 Document Shredding
DESCRIPTION:Start your spring cleaning by getting rid of all of your unwanted\, important documents safely. Sponsored by the Daniel Island Community Fund (DICF)\, Shred360 will be coming to the Blackbaud North parking lot (65 Fairchild Street) to help you safely shred your documents. The event will take place on Saturday\, May 18th from 9 AM – 12 PM or when the shredding truck is full\, whichever comes first. \nImportant info from Shred360: Those attending this event are requested to limit their shredding materials to no more than 5 boxes/bags. Staples\, clips\, notebooks\, binders\, file folders\, etc. are all acceptable items and need NOT be removed before shredding. \n**This is a private event for Daniel Island residents and businesses only. You must have a valid ID with you to participate.
URL:https://dicommunity.org/event/shred360-document-shredding/
LOCATION:Blackbaud World HQ\, 65 Fairchild Street\, Charleston\, SC\, 29492\, United States
CATEGORIES:POA Event
ATTACH;FMTTYPE=image/jpeg:https://dicommunity.org/wp-content/uploads/2017/04/shred360.jpg
ORGANIZER;CN="Daniel Island Community Fund":MAILTO:info@dicommunity.org
GEO:32.8653127;-79.9093486
X-APPLE-STRUCTURED-LOCATION;VALUE=URI;X-ADDRESS=Blackbaud World HQ 65 Fairchild Street Charleston SC 29492 United States;X-APPLE-RADIUS=500;X-TITLE=65 Fairchild Street:geo:-79.9093486,32.8653127
END:VEVENT
END:VCALENDAR