BEGIN:VCALENDAR
VERSION:2.0
PRODID:-//Daniel Island Property Owners&#039; Association - ECPv6.15.19//NONSGML v1.0//EN
CALSCALE:GREGORIAN
METHOD:PUBLISH
X-WR-CALNAME:Daniel Island Property Owners&#039; Association
X-ORIGINAL-URL:https://dicommunity.org
X-WR-CALDESC:Events for Daniel Island Property Owners&#039; Association
REFRESH-INTERVAL;VALUE=DURATION:PT1H
X-Robots-Tag:noindex
X-PUBLISHED-TTL:PT1H
BEGIN:VTIMEZONE
TZID:America/New_York
BEGIN:DAYLIGHT
TZOFFSETFROM:-0500
TZOFFSETTO:-0400
TZNAME:EDT
DTSTART:20230312T070000
END:DAYLIGHT
BEGIN:STANDARD
TZOFFSETFROM:-0400
TZOFFSETTO:-0500
TZNAME:EST
DTSTART:20231105T060000
END:STANDARD
BEGIN:DAYLIGHT
TZOFFSETFROM:-0500
TZOFFSETTO:-0400
TZNAME:EDT
DTSTART:20240310T070000
END:DAYLIGHT
BEGIN:STANDARD
TZOFFSETFROM:-0400
TZOFFSETTO:-0500
TZNAME:EST
DTSTART:20241103T060000
END:STANDARD
BEGIN:DAYLIGHT
TZOFFSETFROM:-0500
TZOFFSETTO:-0400
TZNAME:EDT
DTSTART:20250309T070000
END:DAYLIGHT
BEGIN:STANDARD
TZOFFSETFROM:-0400
TZOFFSETTO:-0500
TZNAME:EST
DTSTART:20251102T060000
END:STANDARD
END:VTIMEZONE
BEGIN:VEVENT
DTSTART;TZID=America/New_York:20241018T190000
DTEND;TZID=America/New_York:20241018T203000
DTSTAMP:20260424T045340
CREATED:20240924T162635Z
LAST-MODIFIED:20241004T160945Z
UID:150318-1729278000-1729283400@dicommunity.org
SUMMARY:Movie Night in the Park
DESCRIPTION:The Waterfront community invites you to their 3rd annual outdoor movie night at Waterfront Park. \nFamilies and friends are invited to bring their lawn chairs and beach blankets to Waterfront Park for a movie night under the stars\, featuring the Disney film\, “Lilo & Stitch”. Arrive early and enjoy yummy bites from food vendors\, The DIME\, CoHog\, and Holy City Popcorn. Moviegoers can enjoy 10% off their purchase of pizza at The DIME from 5-8 pm. \n\nThis is a free event and open to the public – no registration required!\nAll food vendor products are available for purchase.\nThe movie will start promptly at 7 pm and seating is first come\, first served.\nYou are kindly asked to limit your belongings to blankets and chairs for the event\, to allow room for more attendees.\n\n  \nAbout the film: In Lilo and Stitch\, get ready to crash-land on Earth with Stitch\, a runaway genetic experiment from a faraway planet. As he wreaks havoc on the Hawaiian Islands\, he becomes the mischievous adopted alien “puppy” of an independent little girl named Lilo and learns about loyalty\, friendship\, and ‘ohana\, the Hawaiian tradition of family. \nRating: PG\nRuntime: 85 minutes
URL:https://dicommunity.org/event/movie-night-in-the-park/
LOCATION:Daniel Island Waterfront Park\, 1 River Landing Drive\, Daniel Island\, SC\, 29492
ATTACH;FMTTYPE=image/jpeg:https://dicommunity.org/wp-content/uploads/2024/09/AbbyMurphyPhoto_09-16-2022_EWMovieNight-84-scaled.jpg
ORGANIZER;CN="The Waterfront":MAILTO:INFO@THEWATERFRONTDI.COM
END:VEVENT
END:VCALENDAR