BEGIN:VCALENDAR
VERSION:2.0
PRODID:-//Daniel Island Property Owners&#039; Association - ECPv6.15.19//NONSGML v1.0//EN
CALSCALE:GREGORIAN
METHOD:PUBLISH
X-WR-CALNAME:Daniel Island Property Owners&#039; Association
X-ORIGINAL-URL:https://dicommunity.org
X-WR-CALDESC:Events for Daniel Island Property Owners&#039; Association
REFRESH-INTERVAL;VALUE=DURATION:PT1H
X-Robots-Tag:noindex
X-PUBLISHED-TTL:PT1H
BEGIN:VTIMEZONE
TZID:America/New_York
BEGIN:DAYLIGHT
TZOFFSETFROM:-0500
TZOFFSETTO:-0400
TZNAME:EDT
DTSTART:20250309T070000
END:DAYLIGHT
BEGIN:STANDARD
TZOFFSETFROM:-0400
TZOFFSETTO:-0500
TZNAME:EST
DTSTART:20251102T060000
END:STANDARD
BEGIN:DAYLIGHT
TZOFFSETFROM:-0500
TZOFFSETTO:-0400
TZNAME:EDT
DTSTART:20260308T070000
END:DAYLIGHT
BEGIN:STANDARD
TZOFFSETFROM:-0400
TZOFFSETTO:-0500
TZNAME:EST
DTSTART:20261101T060000
END:STANDARD
BEGIN:DAYLIGHT
TZOFFSETFROM:-0500
TZOFFSETTO:-0400
TZNAME:EDT
DTSTART:20270314T070000
END:DAYLIGHT
BEGIN:STANDARD
TZOFFSETFROM:-0400
TZOFFSETTO:-0500
TZNAME:EST
DTSTART:20271107T060000
END:STANDARD
END:VTIMEZONE
BEGIN:VEVENT
DTSTART;TZID=America/New_York:20260307T183000
DTEND;TZID=America/New_York:20260307T210000
DTSTAMP:20260421T045304
CREATED:20260130T192511Z
LAST-MODIFIED:20260130T192511Z
UID:163229-1772908200-1772917200@dicommunity.org
SUMMARY:Mike Farris Concert
DESCRIPTION:Called “One of the signature singers of our time” (The Nashville Bridge)\, 2015 Grammy Award-winner for Best Roots Gospel album\, Mike Farris brings his world-class vocals to the Daniel Island Club for an exclusive solo performance. Farris seamlessly blends blues\, rock\, and gospel into a sound uniquely his own—infused with the “electricity of Saturday night and the godly grace of Sunday mornings” (Rolling Stone Country). \nFresh off his 2025 masterpiece\, “The Sound of Muscle Shoals” – hailed by The Nashvillian as the “Best Soul record of the year” – Mike Farris is at the peak of his artistic powers. Please join Point Hope for this special opportunity to experience Farris and his music in an intimate setting. \nAll ticket proceeds will benefit ECCO (East Cooper Community Outreach)\, a local nonprofit serving neighbors in crisis through food assistance\, financial support\, and pathways toward long-term stability. \nTickets include hors d’oeuvres\, with a cash bar available. \n6:30 pm – Doors open\, food served\, bar open\n7:30 pm – Concert begins \nThis concert is sponsored by Point Hope Presbyterian Church.
URL:https://dicommunity.org/event/mike-farris-concert/
LOCATION:Daniel Island Club\, 600 Island Park Dr\, Charleston\, 29492
ATTACH;FMTTYPE=image/jpeg:https://dicommunity.org/wp-content/uploads/2026/01/M-Farris-TSOMS-screen-09.19.24-taller-copy-4-scaled.jpg
ORGANIZER;CN="Point Hope Presbyterian Church":MAILTO:Matt@pointhopepres.com
GEO:32.8791092;-79.9047533
X-APPLE-STRUCTURED-LOCATION;VALUE=URI;X-ADDRESS=Daniel Island Club 600 Island Park Dr Charleston 29492;X-APPLE-RADIUS=500;X-TITLE=600 Island Park Dr:geo:-79.9047533,32.8791092
END:VEVENT
END:VCALENDAR