BEGIN:VCALENDAR
VERSION:2.0
PRODID:-//Daniel Island Property Owners&#039; Association - ECPv6.15.19//NONSGML v1.0//EN
CALSCALE:GREGORIAN
METHOD:PUBLISH
X-WR-CALNAME:Daniel Island Property Owners&#039; Association
X-ORIGINAL-URL:https://dicommunity.org
X-WR-CALDESC:Events for Daniel Island Property Owners&#039; Association
REFRESH-INTERVAL;VALUE=DURATION:PT1H
X-Robots-Tag:noindex
X-PUBLISHED-TTL:PT1H
BEGIN:VTIMEZONE
TZID:UTC
BEGIN:STANDARD
TZOFFSETFROM:+0000
TZOFFSETTO:+0000
TZNAME:UTC
DTSTART:20240101T000000
END:STANDARD
END:VTIMEZONE
BEGIN:VEVENT
DTSTART;TZID=UTC:20250626T130000
DTEND;TZID=UTC:20250626T140000
DTSTAMP:20260421T104412
CREATED:20250603T173551Z
LAST-MODIFIED:20250624T180607Z
UID:154850-1750942800-1750946400@dicommunity.org
SUMMARY:June 2025 DIPA Board Meeting
DESCRIPTION:The Daniel Island Park Association (DIPA) Board will hold a meeting on Thursday\, June 26th at 1 PM. The meeting will be held via a Zoom Webinar. All attendees must register HERE to be able to attend this meeting. Registration for the meeting will end 1 hour before the meeting begins. \nPlease note that this meeting is only available for those residents who are current members of the Daniel Island Park Association. \nThe Daniel Island Park Association (DIPA) is comprised of property owners who own property in Daniel Island Park\, including Captain’s Island and the Retreat. \n6.26.2025 Meeting Agenda
URL:https://dicommunity.org/event/june-2025-dipa-board-meeting/
LOCATION:VIRTUAL VIA ZOOM
CATEGORIES:POA Event
ATTACH;FMTTYPE=image/jpeg:https://dicommunity.org/wp-content/uploads/2022/07/DI_POA_header_7-mobile.jpg
END:VEVENT
END:VCALENDAR