BEGIN:VCALENDAR
VERSION:2.0
PRODID:-//Daniel Island Property Owners&#039; Association - ECPv6.15.19//NONSGML v1.0//EN
CALSCALE:GREGORIAN
METHOD:PUBLISH
X-WR-CALNAME:Daniel Island Property Owners&#039; Association
X-ORIGINAL-URL:https://dicommunity.org
X-WR-CALDESC:Events for Daniel Island Property Owners&#039; Association
REFRESH-INTERVAL;VALUE=DURATION:PT1H
X-Robots-Tag:noindex
X-PUBLISHED-TTL:PT1H
BEGIN:VTIMEZONE
TZID:America/New_York
BEGIN:DAYLIGHT
TZOFFSETFROM:-0500
TZOFFSETTO:-0400
TZNAME:EDT
DTSTART:20230312T070000
END:DAYLIGHT
BEGIN:STANDARD
TZOFFSETFROM:-0400
TZOFFSETTO:-0500
TZNAME:EST
DTSTART:20231105T060000
END:STANDARD
BEGIN:DAYLIGHT
TZOFFSETFROM:-0500
TZOFFSETTO:-0400
TZNAME:EDT
DTSTART:20240310T070000
END:DAYLIGHT
BEGIN:STANDARD
TZOFFSETFROM:-0400
TZOFFSETTO:-0500
TZNAME:EST
DTSTART:20241103T060000
END:STANDARD
BEGIN:DAYLIGHT
TZOFFSETFROM:-0500
TZOFFSETTO:-0400
TZNAME:EDT
DTSTART:20250309T070000
END:DAYLIGHT
BEGIN:STANDARD
TZOFFSETFROM:-0400
TZOFFSETTO:-0500
TZNAME:EST
DTSTART:20251102T060000
END:STANDARD
END:VTIMEZONE
BEGIN:VEVENT
DTSTART;TZID=America/New_York:20241027T173000
DTEND;TZID=America/New_York:20241027T193000
DTSTAMP:20260421T054900
CREATED:20240923T144801Z
LAST-MODIFIED:20241022T175410Z
UID:150290-1730050200-1730057400@dicommunity.org
SUMMARY:Jack-O-Lantern Jamboree & Pumpkin Walk
DESCRIPTION:The Jack-O-Lantern Jamboree and Pumpkin Walk\, formerly known as the Halloween Bash/Pumpkin Walk\, is a cherished community tradition\, hosted by the Daniel Island School PTA and supported by the Daniel Island Community Fund. \nAs you stroll along the scenic pathway\, attendees have the opportunity to participate in a scavenger hunt\, enjoy live music\, and explore a variety of fun activities sponsored by our community partners. Delicious offerings from popular food trucks will be available to keep you fueled for the evening’s fun. \nWe rely on your participation for this event! Carve or decorate a pumpkin and drop it off Sunday\, October 27th from 1-3pm at Smythe Park (corner of Daniel Island Drive and Purcell Lane). Pumpkins can be picked up after the event or by 9am Monday\, October 28th. It is FREE to participate! \nFood vendors include: \n\nHoly City Popcorn\nShaka Shrimp\nRoe Roes\nWally’s Gyros
URL:https://dicommunity.org/event/jack-o-lantern-jamboree-pumpkin-walk/
LOCATION:Smythe Park\, Smythe Park (2394 Daniel Island Drive)\, Charleston\, SC\, 29492\, United States
CATEGORIES:POA Event
ATTACH;FMTTYPE=image/png:https://dicommunity.org/wp-content/uploads/2024/09/jack-o-lantern-jamboree.png
ORGANIZER;CN="Daniel Island School PTA":MAILTO:kchawaii@live.com
GEO:33.836081;-81.1637245
X-APPLE-STRUCTURED-LOCATION;VALUE=URI;X-ADDRESS=Smythe Park Smythe Park (2394 Daniel Island Drive) Charleston SC 29492 United States;X-APPLE-RADIUS=500;X-TITLE=Smythe Park (2394 Daniel Island Drive):geo:-81.1637245,33.836081
END:VEVENT
END:VCALENDAR