BEGIN:VCALENDAR
VERSION:2.0
PRODID:-//Daniel Island Property Owners&#039; Association - ECPv6.15.19//NONSGML v1.0//EN
CALSCALE:GREGORIAN
METHOD:PUBLISH
X-WR-CALNAME:Daniel Island Property Owners&#039; Association
X-ORIGINAL-URL:https://dicommunity.org
X-WR-CALDESC:Events for Daniel Island Property Owners&#039; Association
REFRESH-INTERVAL;VALUE=DURATION:PT1H
X-Robots-Tag:noindex
X-PUBLISHED-TTL:PT1H
BEGIN:VTIMEZONE
TZID:America/New_York
BEGIN:DAYLIGHT
TZOFFSETFROM:-0500
TZOFFSETTO:-0400
TZNAME:EDT
DTSTART:20230312T070000
END:DAYLIGHT
BEGIN:STANDARD
TZOFFSETFROM:-0400
TZOFFSETTO:-0500
TZNAME:EST
DTSTART:20231105T060000
END:STANDARD
BEGIN:DAYLIGHT
TZOFFSETFROM:-0500
TZOFFSETTO:-0400
TZNAME:EDT
DTSTART:20240310T070000
END:DAYLIGHT
BEGIN:STANDARD
TZOFFSETFROM:-0400
TZOFFSETTO:-0500
TZNAME:EST
DTSTART:20241103T060000
END:STANDARD
BEGIN:DAYLIGHT
TZOFFSETFROM:-0500
TZOFFSETTO:-0400
TZNAME:EDT
DTSTART:20250309T070000
END:DAYLIGHT
BEGIN:STANDARD
TZOFFSETFROM:-0400
TZOFFSETTO:-0500
TZNAME:EST
DTSTART:20251102T060000
END:STANDARD
END:VTIMEZONE
BEGIN:VEVENT
DTSTART;TZID=America/New_York:20241003T090000
DTEND;TZID=America/New_York:20241003T100000
DTSTAMP:20260424T045554
CREATED:20240802T185028Z
LAST-MODIFIED:20240926T131716Z
UID:10098153-1727946000-1727949600@dicommunity.org
SUMMARY:Community Yoga at DI Rec
DESCRIPTION:A flow yoga class for all levels\, beginners are welcome\n\nStart with floor stretches before flowing through a series of standing poses\, strength and balance work. Finish with deeper stretches and final relaxation.\n\nExperience a mindful\, meditative flow linking breath with movement. Mats and blocks are provided. Classes are drop-in\, so no preregistration is required.
URL:https://dicommunity.org/event/community-yoga-at-di-rec-2/2024-10-03/
LOCATION:City of Charleston Recreation Center – Governors Park\, 160 Fairbanks Drive\, Charleston\, SC\, 29492\, United States
ATTACH;FMTTYPE=image/jpeg:https://dicommunity.org/wp-content/uploads/2024/01/IMG_3704.jpeg
ORGANIZER;CN="Teresa Donohue":MAILTO:Dicommunityyoga@gmail.com
END:VEVENT
END:VCALENDAR